BEGIN:VCALENDAR
VERSION:2.0
PRODID:-//Washington State Hands &amp; Voices - ECPv6.15.20//NONSGML v1.0//EN
CALSCALE:GREGORIAN
METHOD:PUBLISH
X-ORIGINAL-URL:https://wahandsandvoices.org
X-WR-CALDESC:Events for Washington State Hands &amp; Voices
REFRESH-INTERVAL;VALUE=DURATION:PT1H
X-Robots-Tag:noindex
X-PUBLISHED-TTL:PT1H
BEGIN:VTIMEZONE
TZID:America/Los_Angeles
BEGIN:DAYLIGHT
TZOFFSETFROM:-0800
TZOFFSETTO:-0700
TZNAME:PDT
DTSTART:20190310T100000
END:DAYLIGHT
BEGIN:STANDARD
TZOFFSETFROM:-0700
TZOFFSETTO:-0800
TZNAME:PST
DTSTART:20191103T090000
END:STANDARD
BEGIN:DAYLIGHT
TZOFFSETFROM:-0800
TZOFFSETTO:-0700
TZNAME:PDT
DTSTART:20200308T100000
END:DAYLIGHT
BEGIN:STANDARD
TZOFFSETFROM:-0700
TZOFFSETTO:-0800
TZNAME:PST
DTSTART:20201101T090000
END:STANDARD
BEGIN:DAYLIGHT
TZOFFSETFROM:-0800
TZOFFSETTO:-0700
TZNAME:PDT
DTSTART:20210314T100000
END:DAYLIGHT
BEGIN:STANDARD
TZOFFSETFROM:-0700
TZOFFSETTO:-0800
TZNAME:PST
DTSTART:20211107T090000
END:STANDARD
END:VTIMEZONE
BEGIN:VEVENT
DTSTART;TZID=America/Los_Angeles:20200506T160000
DTEND;TZID=America/Los_Angeles:20200506T170000
DTSTAMP:20260424T004757
CREATED:20200427T074739Z
LAST-MODIFIED:20200427T074739Z
UID:4287-1588780800-1588784400@wahandsandvoices.org
SUMMARY:Parents/Caregivers Social Hour
DESCRIPTION:Purpose: Online Parent/caregiver Social hours are peer to peer support groups that address parent/caregiver well-being\,knowledge and empowerment. Through research parents who have increased confidence and support are able to be more engaged in the support and learning of their child(ren). \nOur Online parent/caregiver social hours are for any parent whose child is deaf or hard of hearing. \nASL interpreting and captioning are provided for communication access. \n  \nRegister in advance for this meeting: \nhttps://department-of-health-hawaii.zoom.us/meeting/register/tJUpdOGvqjgsl8_ZXftzdjxTi-xCCqp7ag \nAfter registering\, you will receive a confirmation email containing information about joining the meeting.
URL:https://wahandsandvoices.org/event/parents-caregivers-social-hour/
ORGANIZER;CN="Washington Hands & Voices":MAILTO:gbys@wahandsandvoices.org
END:VEVENT
END:VCALENDAR