BEGIN:VCALENDAR
VERSION:2.0
PRODID:-//Washington State Hands &amp; Voices - ECPv6.15.20//NONSGML v1.0//EN
CALSCALE:GREGORIAN
METHOD:PUBLISH
X-ORIGINAL-URL:https://wahandsandvoices.org
X-WR-CALDESC:Events for Washington State Hands &amp; Voices
REFRESH-INTERVAL;VALUE=DURATION:PT1H
X-Robots-Tag:noindex
X-PUBLISHED-TTL:PT1H
BEGIN:VTIMEZONE
TZID:America/Los_Angeles
BEGIN:DAYLIGHT
TZOFFSETFROM:-0800
TZOFFSETTO:-0700
TZNAME:PDT
DTSTART:20210314T100000
END:DAYLIGHT
BEGIN:STANDARD
TZOFFSETFROM:-0700
TZOFFSETTO:-0800
TZNAME:PST
DTSTART:20211107T090000
END:STANDARD
BEGIN:DAYLIGHT
TZOFFSETFROM:-0800
TZOFFSETTO:-0700
TZNAME:PDT
DTSTART:20220313T100000
END:DAYLIGHT
BEGIN:STANDARD
TZOFFSETFROM:-0700
TZOFFSETTO:-0800
TZNAME:PST
DTSTART:20221106T090000
END:STANDARD
BEGIN:DAYLIGHT
TZOFFSETFROM:-0800
TZOFFSETTO:-0700
TZNAME:PDT
DTSTART:20230312T100000
END:DAYLIGHT
BEGIN:STANDARD
TZOFFSETFROM:-0700
TZOFFSETTO:-0800
TZNAME:PST
DTSTART:20231105T090000
END:STANDARD
END:VTIMEZONE
BEGIN:VEVENT
DTSTART;TZID=America/Los_Angeles:20220601T080000
DTEND;TZID=America/Los_Angeles:20220820T170000
DTSTAMP:20260422T110223
CREATED:20220601T171405Z
LAST-MODIFIED:20220601T173226Z
UID:48235-1654070400-1661014800@wahandsandvoices.org
SUMMARY:2nd Annual Art Festival
DESCRIPTION:2nd ANNUAL ART FESTIVAL!  \nWe’re inviting kids who are Deaf or Hard of Hearing and living in Washington State to exhibit their summer art in our 2nd Annual virtual Art Festival! \nEntries are Due Aug 20\, 2022 \nAwards Announced Sept 2022 \nPlease click on the link for more information and how to enter. \n  \n  \n  \n \n2do FESTIVAL DE ARTE ANUAL  \n¡Estamos invitando a niños Sordos e Hipoacúsicos que vivan en el Estado de Washington para la exhibición anual de arte de verano en nuestro 2do Festival Virtual de Arte! \nLas entregas deben ser a más tardar el 20 de Agosto del 2022 \nLos ganadores se anunciarán en Septiembre del 2022 \nPor favor da click en el link para más información de cómo entrar   \n  \n  \n 
URL:https://wahandsandvoices.org/event/2nd-annual-art-festival/
ORGANIZER;CN="Washington Hands & Voices":MAILTO:gbys@wahandsandvoices.org
END:VEVENT
END:VCALENDAR