BEGIN:VCALENDAR
VERSION:2.0
PRODID:-//Washington State Hands &amp; Voices - ECPv6.15.20//NONSGML v1.0//EN
CALSCALE:GREGORIAN
METHOD:PUBLISH
X-WR-CALNAME:Washington State Hands &amp; Voices
X-ORIGINAL-URL:https://wahandsandvoices.org
X-WR-CALDESC:Events for Washington State Hands &amp; Voices
REFRESH-INTERVAL;VALUE=DURATION:PT1H
X-Robots-Tag:noindex
X-PUBLISHED-TTL:PT1H
BEGIN:VTIMEZONE
TZID:America/Los_Angeles
BEGIN:DAYLIGHT
TZOFFSETFROM:-0800
TZOFFSETTO:-0700
TZNAME:PDT
DTSTART:20230312T100000
END:DAYLIGHT
BEGIN:STANDARD
TZOFFSETFROM:-0700
TZOFFSETTO:-0800
TZNAME:PST
DTSTART:20231105T090000
END:STANDARD
BEGIN:DAYLIGHT
TZOFFSETFROM:-0800
TZOFFSETTO:-0700
TZNAME:PDT
DTSTART:20240310T100000
END:DAYLIGHT
BEGIN:STANDARD
TZOFFSETFROM:-0700
TZOFFSETTO:-0800
TZNAME:PST
DTSTART:20241103T090000
END:STANDARD
BEGIN:DAYLIGHT
TZOFFSETFROM:-0800
TZOFFSETTO:-0700
TZNAME:PDT
DTSTART:20250309T100000
END:DAYLIGHT
BEGIN:STANDARD
TZOFFSETFROM:-0700
TZOFFSETTO:-0800
TZNAME:PST
DTSTART:20251102T090000
END:STANDARD
END:VTIMEZONE
BEGIN:VEVENT
DTSTART;TZID=America/Los_Angeles:20240408T190000
DTEND;TZID=America/Los_Angeles:20240408T200000
DTSTAMP:20260419T131557
CREATED:20240408T162324Z
LAST-MODIFIED:20240408T162657Z
UID:241947-1712602800-1712606400@wahandsandvoices.org
SUMMARY:What's Up Wednesday- Parent Group Meeting
DESCRIPTION:Join us for April ‘s What’s Up Wednesday parent/caregiver group meeting. \nThis month we will be focusing on the topic: \nCreating a Language Rich Environment (LRE)\n\n– What is LRE?\n– What are ways to create an LRE?\n– Share with other families what you do to create an LRE for your child (children).\n– Discover new resources.\n\n  \nJoin us on Zoom: \n https://zoom.us/join\nMeeting ID: 939 8330 9951\nPasscode: whatsup
URL:https://wahandsandvoices.org/event/whats-up-wednesday-parent-group-meeting/
END:VEVENT
BEGIN:VEVENT
DTSTART;TZID=America/Los_Angeles:20240420T080000
DTEND;TZID=America/Los_Angeles:20240420T170000
DTSTAMP:20260419T131557
CREATED:20240226T213944Z
LAST-MODIFIED:20240402T163523Z
UID:241863-1713600000-1713632400@wahandsandvoices.org
SUMMARY:Educational Advocacy Workshop
DESCRIPTION:Register Today!\nAdvocacy Support & Training  |  In Person Workshop\nSaturday\, April 20\, 2024  |  8:00 AM – 5:00 PM \nWhether you are just starting out on this journey or are a veteran this workshop is for you! Please join parents\, caregivers\, professionals\, Early Support providers\, Teachers of the Deaf\, DHH advocates\, audiologists\, and community members wanting to learn from national Hands & Voices trainers on educational advocacy skills and tools to help ensure the integrity of education for students who are deaf\, deaf plus\, or hard of hearing.   \n  \nCost:\n$15 for WA H&V Members \n$40 for Guests \nScholarships available \n \n  \nBook (optional): Educational Advocacy for Students Who are Deaf or Hard of hearing- purchase today\, pick-up at the workshop $39.90 \n  \n  \nTo Register and for more information visit the Advocacy Support & Training page under Support Services on our website. \nClick here to view a video describing this workshop. We are planning some lighter (not as in depth) Advocacy\, Support and Training workshops in central and eastern Washington in late spring.  \n 
URL:https://wahandsandvoices.org/event/educational-advocacy-workshop/
LOCATION:University of Washington Haring Center: Experimental Education Unit\, 1981 NE Columbia Rd.\, Seattle\, WA\, United States
ORGANIZER;CN="Washington State Hands & Voices":MAILTO:info@wahandsandvoices.org
END:VEVENT
END:VCALENDAR