BEGIN:VCALENDAR
VERSION:2.0
PRODID:-//Washington State Hands &amp; Voices - ECPv6.15.20//NONSGML v1.0//EN
CALSCALE:GREGORIAN
METHOD:PUBLISH
X-ORIGINAL-URL:https://wahandsandvoices.org
X-WR-CALDESC:Events for Washington State Hands &amp; Voices
REFRESH-INTERVAL;VALUE=DURATION:PT1H
X-Robots-Tag:noindex
X-PUBLISHED-TTL:PT1H
BEGIN:VTIMEZONE
TZID:America/Los_Angeles
BEGIN:DAYLIGHT
TZOFFSETFROM:-0800
TZOFFSETTO:-0700
TZNAME:PDT
DTSTART:20230312T100000
END:DAYLIGHT
BEGIN:STANDARD
TZOFFSETFROM:-0700
TZOFFSETTO:-0800
TZNAME:PST
DTSTART:20231105T090000
END:STANDARD
BEGIN:DAYLIGHT
TZOFFSETFROM:-0800
TZOFFSETTO:-0700
TZNAME:PDT
DTSTART:20240310T100000
END:DAYLIGHT
BEGIN:STANDARD
TZOFFSETFROM:-0700
TZOFFSETTO:-0800
TZNAME:PST
DTSTART:20241103T090000
END:STANDARD
BEGIN:DAYLIGHT
TZOFFSETFROM:-0800
TZOFFSETTO:-0700
TZNAME:PDT
DTSTART:20250309T100000
END:DAYLIGHT
BEGIN:STANDARD
TZOFFSETFROM:-0700
TZOFFSETTO:-0800
TZNAME:PST
DTSTART:20251102T090000
END:STANDARD
END:VTIMEZONE
BEGIN:VEVENT
DTSTART;TZID=America/Los_Angeles:20240720T100000
DTEND;TZID=America/Los_Angeles:20240720T130000
DTSTAMP:20260419T085457
CREATED:20240530T211346Z
LAST-MODIFIED:20240712T190934Z
UID:242133-1721469600-1721480400@wahandsandvoices.org
SUMMARY:Annual Summer Family Picnic
DESCRIPTION:Join us for family fun at our Annual Summer Family Picnic on July 20 from 10 am to 1 pm at Kelsey Creek Farm in Bellevue –Picnic Shelter.\nJoining us this year: \n\nOffice of Deaf and Hard of Hearing-Deaf Family Mentor Program\nCenter for Deaf and Hard of Hearing Youth\nFamily Conversations/Northwest School for Deaf and Hard of Hearing Children\nListen and Talk\nHearing Speech and Deaf Center\nCraft provided by ADWAS’s own Nancy Edne\nand more!\n\nCome join Us!\nBarbecue hotdogs served from 11:00-12:30\n(or as food supplies last) \nBring your own picnic blankets and chairs \n  \n\nASL interpreting provided\nPlease send other accommodation requests 2 weeks prior to the date to Christine Griffin gbys@wahandsandvoices.org\nWe’d like to thank our sponsors: Office of Deaf and hard of Hearing and Center for Deaf and Hard of Hearing Youth\nFor questions\, please email info@wahandsandvoices.org\n\n 
URL:https://wahandsandvoices.org/event/annual-summer-family-picnic/
LOCATION:Kelsey Creek Farm-Picnic Shelter\, 410 130th Pl SE\, Bellevue\, WA\, 98005
ORGANIZER;CN="Washington State Hands & Voices":MAILTO:info@wahandsandvoices.org
END:VEVENT
END:VCALENDAR